Workbook

Sheet Antrag
A1: Antrag auf Nachteilsausgleich (NTA) Abitur nach § 13 Abs.8 APO-GOSt
A2: Formular für Prüflinge mit drei schriftlichen Abiturprüfungen
A4: Wichtige Hinweise:
A5: Für jeden Prüfling wird ein eigenes Formular ausgefüllt und gespeichert.
A6: Bitte benennen Sie die Datei wie folgt: Schulnummer_Nachname-Prüfling, z.B. 121212_Mueller
A7: Benutzen Sie für jeden Antrag ein neues Formular in einer eigenen Datei.
A8: Bitte füllen Sie im Formular die weißen Felder aus. In vielen Feldern können Sie aus einer Liste auswählen.
A9: Die Vollständigkeit der Dokumentation des NTA in der gymnasialen Oberstufe obliegt der Verantwortung der Schulleitung.
A11: Datum Antragsstellung | C11: Eintrag des aktuellen Datums
A13: Allgemeine Angaben der Schule
A14: Schulnummer | B14: Bitte auswählen | C14: Eintrag der 6-stelligen Schulnummer
A15: Name der Schule | B15: =IFERROR(IF(VLOOKUP(Antrag!$B$14,Schulen!$A$2:$K$314,4,)="","fehlt",VLOOKUP(Antrag!$B$14,Schulen!$A$2:$K$314,4,)),"Bitte im Feld 'Schulnummer' die Schulnummer eintragen") -> Bitte im Feld 'Schulnummer' die Schulnummer eintragen | C15: wird automatisch ermittelt
A16: Schulleitung, Anrede | B16: bitte auswählen | C16: Anrede der Schulleitung (m/w/d)
A17: Schulleitung, Name | C17: Name der Schulleitung oder der kommissarisch besetzen Schulleitung oder der stellv. Schulleitung
A18: Schulleitung, Vorname | C18: Vorname der Schulleitung oder der kommissarisch besetzen Schulleitung oder der stellv. Schulleitung
A19: Straße und Hausnummer | B19: =IFERROR(IF(VLOOKUP(Antrag!$B$14,Schulen!$A$2:$K$314,7,)="","fehlt",VLOOKUP(Antrag!$B$14,Schulen!$A$2:$K$314,7,)),"Bitte im Feld 'Schulnummer' die Schulnummer eintragen") -> Bitte im Feld 'Schulnummer' die Schulnummer eintragen | C19: wird automatisch ermittelt
A20: PLZ | B20: =IFERROR(IF(VLOOKUP(Antrag!$B$14,Schulen!$A$2:$K$314,8,)="","fehlt",VLOOKUP(Antrag!$B$14,Schulen!$A$2:$K$314,8,)),"Bitte im Feld 'Schulnummer' die Schulnummer eintragen") -> Bitte im Feld 'Schulnummer' die Schulnummer eintragen | C20: wird automatisch ermittelt
A21: Ort | B21: =IFERROR(IF(VLOOKUP(Antrag!$B$14,Schulen!$A$2:$K$314,9,)="","fehlt",VLOOKUP(Antrag!$B$14,Schulen!$A$2:$K$314,9,)),"Bitte im Feld 'Schulnummer' die Schulnummer eintragen") -> Bitte im Feld 'Schulnummer' die Schulnummer eintragen | C21: wird automatisch ermittelt
A22: E-Mail - dienstlich | B22: =IFERROR(IF(VLOOKUP(Antrag!$B$14,Schulen!$A$2:$K$314,11,)="","fehlt",VLOOKUP(Antrag!$B$14,Schulen!$A$2:$K$314,11,)),"Bitte im Feld 'Schulnummer' die Schulnummer eintragen") -> Bitte im Feld 'Schulnummer' die Schulnummer eintragen | C22: wird automatisch ermittelt
A24: Ein Nachteilsausgleich wird beantragt für
A25: Name | C25: Name des Prüflings. Für jeden Prüfling muss ein eigener Antrag in einer eigenen Datei gestellt werden.
A26: Vorname | C26: Vorname des Prüflings
A27: Geburtsdatum | C27: Geburtsdatum des Prüflings
A28: Geschlecht | C28: Auswahl männlich / weiblich / divers / ohne Angabe
A31: Anschrift des Prüflings
A32: Straße und Hausnummer | C32: Die nachfolgenden Daten werden benötigt, falls der Antrag (ggfs. trotz Nachreichungen) final abgelehnt wird.
A33: Postleitzahl | C33: Zur Beschleunigung der Abläufe im Ablehnungsfall sind diese Daten bereits bei der Antragstellung anzugeben.
A34: Ort
A36: 1. Erziehungsberechtigte Person
A37: Name | C37: Bei nicht volljährigen Prüflingen erhalten im Ablehnungsfall die Erziehungsberechtigten die Benachrichtigung.
A38: Vorname | C38: Tragen Sie die nachfolgenden Daten ein, falls der Prüfling zum Fristende der Beantragung (30.November des jeweiligen Schuljahres) noch nicht volljährig ist.
A39: Anschrift
A40: Straße und Hausnummer | C40: Bei gleicher Anschrift kopieren Sie die ggfs. Daten des Prüflings.
A41: Postleitzahl | C41: Tragen Sie bitte nicht "wie oben" o.ä. ein, da exakt die eingetragenen Daten in die versendeten Briefe übernommen werden.
A42: Ort
A44: 2. Erziehungsberechtigte Person
A45: Name
A46: Vorname
A47: Anschrift
A48: Straße und Hausnummer | C48: Bei gleicher Anschrift kopieren Sie ggfs. die Daten des Prüflings.
...

Sheet Quelle
A1: Geschlecht | C1: Art | E1: LK1-Fächer | G1: LK2-Fächer | I1: GK-Fächer | L1: Auswahl Dokumentation | N1: AO-SF | P1: Dokumentation AO-SF | S1: Auswahl Beginn | U1: Anrede
A3: männlich | C3: LRS-Legasthenie-Rechtschreibstörung | L3: ja | N3: bitte auswählen | P3: kein AO-SF-Verfahren | S3: bereits in der Sekundarstufe I | U3: Frau
A4: weiblich | C4: Diabetes | E4: Deutsch | G4: Biologie | I4: Biologie | L4: nein | N4: nein | P4: Bestandteil des individuellen Förderplans | S4: zu Beginn oder während der EF | U4: Herr
A5: divers | C5: Autismus-Spektrum-Störung | E5: Mathematik | G5: Biologie bilingual | I5: Biologie bilingual | L5: bitte auswählen | N5: Autismus-Spektrum-Störung | P5: zusätzliche Einzeldokumentation | S5: zu Beginn oder während der Q1 oder Q2 | U5: Guten Tag
A6: ohne Angabe | C6: Sehen | E6: Englisch | G6: Chemie | I6: Chemie | N6: Emotionale und soziale Entwicklung | S6: bitte auswählen | U6: bitte auswählen
C7: Hören | E7: Französisch | G7: Chinesisch | I7: Chinesisch | N7: Hören und Kommunikation
C8: emotionale-soziale Einschränkung | E8: Biologie | G8: Deutsch | I8: Deutsch | N8: Körperbehinderung
C9: Körperbehinderung | E9: Chemie | G9: Englisch | I9: Englisch | N9: Sehen
C10: chronische Erkrankung | E10: Physik | G10: Ernährungslehre | I10: Ernährungslehre | N10: Sprache
C11: motorische Einschränkungen | E11: Spanisch | G11: Erziehungswissenschaft | I11: Erziehungswissenschaft
C12: akute Erkrankung | E12: Lateinisch | G12: Evangelische Religionslehre | I12: Evangelische Religionslehre
C13: Sonstiges | E13: Italienisch | G13: Französisch | I13: Französisch
C14: bitte auswählen | E14: Griechisch | G14: Geographie | I14: Geographie
E15: Neugriechisch | G15: Geographie bilingual | I15: Geographie bilingual
E16: Hebräisch | G16: Geschichte | I16: Geschichte
E17: Japanisch | G17: Geschichte bilingual | I17: Geschichte bilingual
E18: Niederländisch | G18: Griechisch | I18: Griechisch
E19: Portugiesisch | G19: Hebräisch | I19: Hebräisch
E20: Russisch | G20: Informatik | I20: Informatik
E21: Türkisch | G21: Islamische Religionslehre | I21: Islamische Religionslehre
G22: Italienisch | I22: Italienisch
G23: Japanisch | I23: Japanisch
G24: Jüdische Religionslehre | I24: Jüdische Religionslehre
G25: Katholische Religionslehre | I25: Katholische Religionslehre
G26: Kunst | I26: Kunst
G27: Lateinisch | I27: Lateinisch
G28: Mathematik | I28: Mathematik
G29: Musik | I29: Musik
G30: Niederländisch | I30: Niederländisch
G31: Neugriechisch | I31: Neugriechisch
G32: Orthodoxe Religionslehre | I32: Orthodoxe Religionslehre
G33: Philosophie | I33: Philosophie
... G47: Volkswirtschaftslehre | I47: Volkswirtschaftslehre

Sheet Schulen
A1: Schulnr. | D1: Schule | G1: Straße, Hausnr. | H1: PLZ | I1: Ort | K1: E-Mail
A2: 100010 | D2: Claudia Agrippina Privatgymnasium | G2: Stolberger Straße 112 | H2: 50933 | I2: Köln | K2: =A2&".dienst@schule.nrw.de" -> 100010.dienst@schule.nrw.de
A3: 100016 | D3: Kupferstädter Gesamtschule | G3: Breslauer Straße 1 | H3: 52222 52224 | I3: Stolberg | K3: =A3&".dienst@schule.nrw.de" -> 100016.dienst@schule.nrw.de
A4: 100036 | D4: Gesamtschule Helios | G4: Overbeckstraße 71-73 | H4: 50823 | I4: Köln | K4: =A4&".dienst@schule.nrw.de" -> 100036.dienst@schule.nrw.de
A5: 100040 | D5: Gymnasium Neue Sandkaul | G5: Neue Sandkaul 29 | H5: 50859 | I5: Köln | K5: =A5&".dienst@schule.nrw.de" -> 100040.dienst@schule.nrw.de
A6: 100041 | D6: Gesamtschule Wasseramselweg (mit Förderschwerpunkten) | G6: Wasseramselweg 2 | H6: 50829 | I6: Köln | K6: =A6&".dienst@schule.nrw.de" -> 100041.dienst@schule.nrw.de
A7: 100068 | D7: Gesamtschule Lindenthal | G7: Berrenrather Straße 488 | H7: 50937 50933 | I7: Köln Köln | K7: =A7&".dienst@schule.nrw.de" -> 100068.dienst@schule.nrw.de
A8: 100071 | D8: Gesamtschule Dellbrücker Mauspfad | G8: Dellbrücker Mauspfad 198 | H8: 51069 | I8: Köln | K8: =A8&".dienst@schule.nrw.de" -> 100071.dienst@schule.nrw.de
A9: 100089 | D9: Gesamtschule Heinrich-Böll-Gesamtschule | G9: Beethovenstraße 57 | H9: 53332 | I9: Bornheim | K9: =A9&".dienst@schule.nrw.de" -> 100089.dienst@schule.nrw.de
A10: 100096 | D10: Gesamtschule Rösrath | G10: Freiherr-vom-Stein-Straße 25 | H10: 51503 | I10: Rösrath | K10: =A10&".dienst@schule.nrw.de" -> 100096.dienst@schule.nrw.de
A11: 100107 | D11: Leonardo-da-Vinci Sekundarschule Morsbach | G11: Hahner Straße 31-33 | H11: 51597 | I11: Morsbach | K11: 100107.dienst@schule.nrw.de
A12: 100129 | D12: Gesamtschule Swisttal | G12: Blütenweg.10 | H12: 53913 | I12: Swisttal | K12: =A12&".dienst@schule.nrw.de" -> 100129.dienst@schule.nrw.de
A13: 100145 | D13: Gymnasium Zusestraße, Köln | G13: Zusestraße 47 | H13: 50859 | I13: Köln | K13: =A13&".dienst@schule.nrw.de" -> 100145.dienst@schule.nrw.de
A14: 100147 | D14: Gymnasium Müngersdorf, Köln | G14: Aachener Straße 746-750 | H14: 50933 | I14: Köln | K14: =A14&".dienst@schule.nrw.de" -> 100147.dienst@schule.nrw.de
A15: 100169 | D15: Freie Naturschule | G15: An der Wachsfabrik 25 | H15: 50996 | I15: Köln | K15: =A15&".dienst@schule.nrw.de" -> 100169.dienst@schule.nrw.de
A16: 100170 | D16: BAO - Bildungsalternative Oberberg | G16: Weyerbuscher Straße 47 | H16: 51570 | I16: Windeck | K16: 100170.dienst@schule.nrw.de
A17: 100173 | D17: Gesamtschule Wermelskirschen | G17: Weyersbusch 9 | H17: 42929 | I17: Wermelskirchen | K17: =A17&".dienst@schule.nrw.de" -> 100173.dienst@schule.nrw.de
A18: 100174 | D18: Gymnasium Alfter | G18: Am Rathaus 11 | H18: 53347 | I18: Alfter | K18: 100174.dienst@schule.nrw.de
A19: 100205 | D19: Gymnasium Nippes am Toni-Steingass-Park | G19: Henner-Berzau-Weg 3 | H19: 50733 | I19: Köln | K19: 100205.dienst@schule.nrw.de
A20: 100206 | D20: Gymnasium Rondorf | G20: Eygelshovener Str. 19 | H20: 50999 | I20: Köln | K20: 100206.dienst@schule.nrw.de
A21: 100208 | D21: Sieben Brücken Schule | G21: Ottostr. 1 | H21: 50859 | I21: Köln | K21: =A21&".dienst@schule.nrw.de" -> 100208.dienst@schule.nrw.de
A22: 100210 | D22: Gesamtschule Am Wassermann | G22: Am Wassermann 40 | H22: 50829 | I22: Köln | K22: =A22&".dienst@schule.nrw.de" -> 100210.dienst@schule.nrw.de
A23: 100211 | D23: Gesamtschule Weidenpesch | G23: Escher Straße 279 | H23: 50739 | I23: Köln | K23: =A23&".dienst@schule.nrw.de" -> 100211.dienst@schule.nrw.de
A24: 100212 | D24: Gesamtschule Ossendorf | G24: Am Wassermann 40 | H24: 50829 | I24: Köln | K24: =A24&".dienst@schule.nrw.de" -> 100212.dienst@schule.nrw.de
A25: 100219 | D25: Erzbischöfliche Gesamtschule am Bildungscampus Köln-Kalk | G25: Christian-Sünner-Str. 5 | H25: 51103 | I25: Köln | K25: =A25&".dienst@schule.nrw.de" -> 100219.dienst@schule.nrw.de
A26: 100231 | D26: Gymnasium Neustadt-Nord | G26: Ubierring 45 | H26: 50678 | I26: Köln | K26: 100231.dienst@schule.nrw.de
A27: 100233 | D27: Gymnasium Brügelmannstraße | G27: Brügelmannstr. 10 | H27: 50679 | I27: Köln | K27: 100233.dienst@schule.nrw.de
A28: 100235 | D28: Gesamtschule Kalk | G28: Brügelmannstraße 10 | H28: 50679 | I28: Köln | K28: =A28&".dienst@schule.nrw.de" -> 100235.dienst@schule.nrw.de
A29: 163922 | D29: Abendrealschule Bonn | G29: Dorotheenstraße 126 | H29: 53111 | I29: Bonn | K29: =A29&".dienst@schule.nrw.de" -> 163922.dienst@schule.nrw.de
A30: 163934 | D30: WBK der Stadt Köln Abendrealschule | G30: Dagobertstr. 79 | H30: 50668 | I30: Köln | K30: =A30&".dienst@schule.nrw.de" -> 163934.dienst@schule.nrw.de
A31: 164124 | D31: Gesamtschule Käthe-Kollwitz | G31: Deichtorstraße 2 | H31: 51371 | I31: Leverkusen | K31: =A31&".dienst@schule.nrw.de" -> 164124.dienst@schule.nrw.de
A32: 164161 | D32: Gesamtschule Rodenkirchen | G32: Sürther Str. 191 | H32: 50999 | I32: Köln | K32: =A32&".dienst@schule.nrw.de" -> 164161.dienst@schule.nrw.de
A33: 164173 | D33: Freie Waldorfschule Bonn | G33: Stettiner Str. 21 | H33: 53119 | I33: Bonn | K33: =A33&".dienst@schule.nrw.de" -> 164173.dienst@schule.nrw.de
A34: 165001 | D34: Freiherr-vom-Stein-Gymnasium | G34: Morsbroicher Straße 77 | H34: 51375 | I34: Leverkusen | K34: 165001.dienst@schule.nrw.de
A35: 165013 | D35: Lise-Meitner-Gymnasium | G35: Am Stadtpark 50 | H35: 51373 | I35: Leverkusen | K35: 165013.dienst@schule.nrw.de
A36: 166157 | D36: Städt. Gymnasium Leichlingen | G36: Am Hammer 2 | H36: 42799 | I36: Leichlingen | K36: =A36&".dienst@schule.nrw.de" -> 166157.dienst@schule.nrw.de
A37: 166182 | D37: Marienschule Opladen | G37: An St. Remigius 21 | H37: 51379 | I37: Leverkusen | K37: =A37&".dienst@schule.nrw.de" -> 166182.dienst@schule.nrw.de
A38: 166194 | D38: Landrat-Lucas-Gymnasium | G38: Peter-Neuenheuser-Straße 7-11 | H38: 51379 | I38: Leverkusen | K38: =A38&".dienst@schule.nrw.de" -> 166194.dienst@schule.nrw.de
A39: 166200 | D39: Werner-Heisenberg-Gymnasium | G39: Werner-Heisenberg-Straße 1 | H39: 51381 | I39: Leverkusen | K39: =A39&".dienst@schule.nrw.de" -> 166200.dienst@schule.nrw.de
A40: 166212 | D40: Theodor-Heuss-Gymnasium | G40: Hermannstraße 23 | H40: 42477 | I40: Radevormwald | K40: =A40&".dienst@schule.nrw.de" -> 166212.dienst@schule.nrw.de
...

Sheet Export_alleZellen
A1: =Antrag!B11 -> 0 | B1: =Antrag!B12 -> 0 | C1: =Antrag!B13 -> 0 | D1: =Antrag!B14 -> Bitte auswählen | E1: =Antrag!B15 -> Bitte im Feld 'Schulnummer' die Schulnummer eintragen | F1: =Antrag!B16 -> bitte auswählen | G1: =Antrag!B17 -> 0 | H1: =Antrag!B18 -> 0 | I1: =Antrag!B19 -> Bitte im Feld 'Schulnummer' die Schulnummer eintragen | J1: =Antrag!B20 -> Bitte im Feld 'Schulnummer' die Schulnummer eintragen | K1: =Antrag!B21 -> Bitte im Feld 'Schulnummer' die Schulnummer eintragen | L1: =Antrag!B22 -> Bitte im Feld 'Schulnummer' die Schulnummer eintragen | M1: =Antrag!B23 -> 0 | N1: =Antrag!B24 -> 0 | O1: =Antrag!B25 -> 0 | P1: =Antrag!B26 -> 0 | Q1: =Antrag!B27 -> 0 | R1: =Antrag!B28 -> 0 | S1: =Antrag!B37 -> 0 | T1: =Antrag!B52 -> 0 | U1: =Antrag!B53 -> 0 | V1: =Antrag!B54 -> bitte auswählen | W1: =Antrag!B55 -> kein Ansprechpartner | X1: =Antrag!B56 -> 0 | Y1: =Antrag!B57 -> kein AO-SF-Verfahren | Z1: =Antrag!B58 -> 0 | AA1: =Antrag!B59 -> 0 | AB1: =Antrag!B60 -> bitte auswählen | AC1: =Antrag!B61 -> bitte auswählen | AD1: =Antrag!B63 -> 0 | AE1: =Antrag!B64 -> bitte auswählen | AF1: =Antrag!B65 -> 0 | AG1: =Antrag!B66 -> 0 | AH1: =Antrag!B67 -> 0 | AI1: =Antrag!B68 -> 0 | AJ1: =Antrag!B69 -> 0 | AK1: =Antrag!B70 -> 0 | AL1: =Antrag!B71 -> 0 | AM1: =Antrag!B72 -> 0 | AN1: =Antrag!B73 -> 0 | AO1: =Antrag!B74 -> 0 | AP1: =Antrag!B75 -> 0 | AQ1: =Antrag!B79 -> 0 | AR1: =Antrag!B80 -> 0 | AS1: =Antrag!B81 -> 0 | AT1: =Antrag!B82 -> 0 | AU1: =Antrag!B84 | AV1: =Antrag!C84 -> 0 | AW1: =Antrag!D84 -> 0 | AX1: =Antrag!E84 -> 0 | AY1: =Antrag!F84 -> 0 | AZ1: =Antrag!B85 | BA1: =Antrag!C85 -> 0 | BB1: =Antrag!D85 -> 0 | BC1: =Antrag!E85 -> 0 | BD1: =Antrag!F85 -> 0 | BE1: =Antrag!B86 | BF1: =Antrag!C86 -> 0 | BG1: =Antrag!D86 -> 0 | BH1: =Antrag!E86 -> 0 | BI1: =Antrag!F86 -> 0 | BJ1: =Antrag!B87 | BK1: =Antrag!C87 -> 0 | BL1: =Antrag!D87 -> 0 | BM1: =Antrag!E87 -> 0 | BN1: =Antrag!F87 -> 0 | BO1: =Antrag!B88 -> 0 | BP1: =Antrag!B89 -> 0 | BQ1: =Antrag!B90 -> 0 | BR1: =Antrag!B91 -> 0 | BS1: =Antrag!B93 | BT1: =Antrag!C93 -> 0 | BU1: =Antrag!D93 -> 0 | BV1: =Antrag!E93 -> 0 | BW1: =Antrag!B94 | BX1: =Antrag!C94 -> 0 | BY1: =Antrag!D94 -> 0 | BZ1: =Antrag!E94 -> 0 | CA1: =Antrag!B95 | CB1: =Antrag!C95 -> 0 | CC1: =Antrag!D95 -> 0 | CD1: =Antrag!E95 -> 0 | CE1: =Antrag!B96 | CF1: =Antrag!C96 -> 0 | CG1: =Antrag!D96 -> 0 | CH1: =Antrag!E96 -> 0 | CI1: =Antrag!B97 -> 0 | CJ1: =Antrag!B111 -> 0 | CK1: =Antrag!B112 -> 0 | CL1: =Antrag!B113 -> 0 | CM1: =Antrag!B115 | CN1: =Antrag!C115 -> 0 | CO1: =Antrag!D115 -> 0 | CP1: =Antrag!E115 -> 0 | CQ1: =Antrag!F115 -> 0 | CR1: =Antrag!B116 | CS1: =Antrag!C116 -> 0 | CT1: =Antrag!D116 -> 0 | CU1: =Antrag!E116 -> 0 | CV1: =Antrag!F116 -> 0 | CW1: =Antrag!B117 | CX1: =Antrag!C117 -> 0 | CY1: =Antrag!D117 -> 0 | CZ1: =Antrag!E117 -> 0 | DA1: =Antrag!F117 -> 0 | DB1: =Antrag!B118 | DC1: =Antrag!C118 -> 0 | DD1: =Antrag!D118 -> 0 | DE1: =Antrag!E118 -> 0 | DF1: =Antrag!F118 -> 0 | DG1: =Antrag!B119 -> 0 | DH1: =Antrag!B120 -> 0 | DI1: =Antrag!B121 -> 0 | DJ1: =Antrag!B122 -> 0 | DK1: =Antrag!B123 -> 0 | DL1: =Antrag!B124 -> 0 | DM1: =Antrag!B125 -> 0 | DN1: =Antrag!B127 | DO1: =Antrag!C127 -> 0 | DP1: =Antrag!D127 -> 0 | DQ1: =Antrag!E127 -> 0 | DR1: =Antrag!B128 | DS1: =Antrag!C128 -> 0 | DT1: =Antrag!D128 -> 0 | DU1: =Antrag!E128 -> 0 | DV1: =Antrag!B129 | DW1: =Antrag!C129 -> 0 | DX1: =Antrag!D129 -> 0 | DY1: =Antrag!E129 -> 0 | DZ1: =Antrag!B130 | EA1: =Antrag!C130 -> 0 | EB1: =Antrag!D130 -> 0 | EC1: =Antrag!E130 -> 0 | ED1: =Antrag!B131 -> 0 | EE1: =Antrag!B142 -> 0 | EF1: =Antrag!B143 -> 0

Sheet Export
A1: =Antrag!B11 -> 0 | B1: =Antrag!B14 -> Bitte auswählen | C1: =Antrag!B15 -> Bitte im Feld 'Schulnummer' die Schulnummer eintragen | D1: =Antrag!B16 -> bitte auswählen | E1: =Antrag!B17 -> 0 | F1: =Antrag!B18 -> 0 | G1: =Antrag!B19 -> Bitte im Feld 'Schulnummer' die Schulnummer eintragen | H1: =Antrag!B20 -> Bitte im Feld 'Schulnummer' die Schulnummer eintragen | I1: =Antrag!B21 -> Bitte im Feld 'Schulnummer' die Schulnummer eintragen | J1: =Antrag!B22 -> Bitte im Feld 'Schulnummer' die Schulnummer eintragen | K1: =Antrag!B25 -> 0 | L1: =Antrag!B26 -> 0 | M1: =Antrag!B27 -> 0 | N1: =Antrag!B28 -> 0 | O1: =Antrag!B54 -> bitte auswählen | P1: =Antrag!B55 -> kein Ansprechpartner | Q1: =Antrag!B57 -> kein AO-SF-Verfahren | R1: =Antrag!B60 -> bitte auswählen | S1: =Antrag!B61 -> bitte auswählen | T1: =Antrag!B64 -> bitte auswählen | U1: =Antrag!B67 -> 0 | V1: =Antrag!B69 -> 0 | W1: =Antrag!B72 -> 0 | X1: =Antrag!B73 -> 0 | Y1: =Antrag!B74 -> 0 | Z1: =Antrag!B75 -> 0 | AA1: =Antrag!B84 | AB1: =Antrag!C84 -> 0 | AC1: =Antrag!D84 -> 0 | AD1: =Antrag!E84 -> 0 | AE1: =Antrag!F84 -> 0 | AF1: =Antrag!B85 | AG1: =Antrag!C85 -> 0 | AH1: =Antrag!D85 -> 0 | AI1: =Antrag!E85 -> 0 | AJ1: =Antrag!F85 -> 0 | AK1: =Antrag!B86 | AL1: =Antrag!C86 -> 0 | AM1: =Antrag!D86 -> 0 | AN1: =Antrag!E86 -> 0 | AO1: =Antrag!F86 -> 0 | AP1: =Antrag!B87 | AQ1: =Antrag!C87 -> 0 | AR1: =Antrag!D87 -> 0 | AS1: =Antrag!E87 -> 0 | AT1: =Antrag!F87 -> 0 | AU1: =Antrag!B93 | AV1: =Antrag!C93 -> 0 | AW1: =Antrag!D93 -> 0 | AX1: =Antrag!E93 -> 0 | AY1: =Antrag!B94 | AZ1: =Antrag!C94 -> 0 | BA1: =Antrag!D94 -> 0 | BB1: =Antrag!E94 -> 0 | BC1: =Antrag!B95 | BD1: =Antrag!C95 -> 0 | BE1: =Antrag!D95 -> 0 | BF1: =Antrag!E95 -> 0 | BG1: =Antrag!B96 | BH1: =Antrag!C96 -> 0 | BI1: =Antrag!D96 -> 0 | BJ1: =Antrag!E96 -> 0 | BK1: =Antrag!C103 -> 0 | BL1: =Antrag!D103 -> 0 | BM1: =Antrag!E103 -> 0 | BN1: =Antrag!F103 -> 0 | BO1: =Antrag!G103 -> 0 | BP1: =Antrag!H103 -> 0 | BQ1: =Antrag!C104 -> 0 | BR1: =Antrag!D104 -> 0 | BS1: =Antrag!E104 -> 0 | BT1: =Antrag!F104 -> 0 | BU1: =Antrag!G104 -> 0 | BV1: =Antrag!H104 -> 0 | BW1: =Antrag!C105 -> 0 | BX1: =Antrag!D105 -> 0 | BY1: =Antrag!E105 -> 0 | BZ1: =Antrag!F105 -> 0 | CA1: =Antrag!G105 -> 0 | CB1: =Antrag!H105 -> 0 | CC1: =Antrag!C106 -> 0 | CD1: =Antrag!D106 -> 0 | CE1: =Antrag!E106 -> 0 | CF1: =Antrag!F106 -> 0 | CG1: =Antrag!G106 -> 0 | CH1: =Antrag!H106 -> 0 | CI1: =Antrag!B115 | CJ1: =Antrag!C115 -> 0 | CK1: =Antrag!D115 -> 0 | CL1: =Antrag!E115 -> 0 | CM1: =Antrag!F115 -> 0 | CN1: =Antrag!B116 | CO1: =Antrag!C116 -> 0 | CP1: =Antrag!D116 -> 0 | CQ1: =Antrag!E116 -> 0 | CR1: =Antrag!F116 -> 0 | CS1: =Antrag!B117 | CT1: =Antrag!C117 -> 0 | CU1: =Antrag!D117 -> 0 | CV1: =Antrag!E117 -> 0 | CW1: =Antrag!F117 -> 0 | CX1: =Antrag!B118 | CY1: =Antrag!C118 -> 0 | CZ1: =Antrag!D118 -> 0 | DA1: =Antrag!E118 -> 0 | DB1: =Antrag!F118 -> 0 | DC1: =Antrag!B121 -> 0 | DD1: =Antrag!B127 | DE1: =Antrag!C127 -> 0 | DF1: =Antrag!D127 -> 0 | DG1: =Antrag!E127 -> 0 | DH1: =Antrag!B128 | DI1: =Antrag!C128 -> 0 | DJ1: =Antrag!D128 -> 0 | DK1: =Antrag!E128 -> 0 | DL1: =Antrag!B129 | DM1: =Antrag!C129 -> 0 | DN1: =Antrag!D129 -> 0 | DO1: =Antrag!E129 -> 0 | DP1: =Antrag!B130 | DQ1: =Antrag!C130 -> 0 | DR1: =Antrag!D130 -> 0 | DS1: =Antrag!E130 -> 0 | DT1: =Antrag!C137 -> 0 | DU1: =Antrag!D137 -> 0 | DV1: =Antrag!E137 -> 0 | DW1: =Antrag!F137 -> 0 | DX1: =Antrag!G137 -> 0 | DY1: =Antrag!H137 -> 0 | DZ1: =Antrag!C138 -> 0 | EA1: =Antrag!D138 -> 0 | EB1: =Antrag!E138 -> 0 | EC1: =Antrag!F138 -> 0 | ED1: =Antrag!G138 -> 0 | EE1: =Antrag!H138 -> 0 | EF1: =Antrag!C139 -> 0 | EG1: =Antrag!D139 -> 0 | EH1: =Antrag!E139 -> 0 | EI1: =Antrag!F139 -> 0 | EJ1: =Antrag!G139 -> 0 | EK1: =Antrag!H139 -> 0 | EL1: =Antrag!C140 -> 0 | EM1: =Antrag!D140 -> 0 | EN1: =Antrag!E140 -> 0 | EO1: =Antrag!F140 -> 0 | EP1: =Antrag!G140 -> 0 | EQ1: =Antrag!H140 -> 0 | ER1: =Antrag!B143 -> 0 | ES1: =Antrag!B32 -> 0 | ET1: =Antrag!B33 -> 0 | EU1: =Antrag!B34 -> 0 | EV1: =Antrag!B37 -> 0 | EW1: =Antrag!B38 -> 0 | EX1: =Antrag!B40 -> 0 | EY1: =Antrag!B41 -> 0 | EZ1: =Antrag!B42 -> 0 | FA1: =Antrag!B45 -> 0 | FB1: =Antrag!B46 -> 0 | FC1: =Antrag!B48 -> 0 | FD1: =Antrag!B49 -> 0 | FE1: =Antrag!B50 -> 0 | FF1: =Antrag!B145 -> 2026.1.4
