Workbook

Sheet Antrag
A1: Antrag auf Nachteilsausgleich (NTA) Abitur nach § 13 Abs.8 APO-GOSt
A2: Formular für Prüflinge mit drei schriftlichen Abiturprüfungen
A4: Wichtige Hinweise:
A5: Für jeden Prüfling wird ein eigenes Formular ausgefüllt und gespeichert.
A6: Bitte benennen Sie die Datei wie folgt: Schulnummer_Nachname-Prüfling, z.B. 121212_Mueller
A7: Benutzen Sie für jeden Antrag ein neues Formular in einer eigenen Datei.
A8: Bitte füllen Sie im Formular die weißen Felder aus. In vielen Feldern können Sie aus einer Liste auswählen.
A9: Die Vollständigkeit der Dokumentation des NTA in der gymnasialen Oberstufe obliegt der Verantwortung der Schulleitung.
A11: Datum Antragsstellung | C11: Eintrag des aktuellen Datums
A13: Allgemeine Angaben der Schule
A14: Schulnummer | B14: Bitte auswählen | C14: Eintrag der 6-stelligen Schulnummer
A15: Name der Schule | B15: =IFERROR(IF(VLOOKUP(Antrag!$B$14,Schulen!$A$2:$K$314,4,)="","fehlt",VLOOKUP(Antrag!$B$14,Schulen!$A$2:$K$314,4,)),"Bitte im Feld 'Schulnummer' die Schulnummer eintragen") -> Bitte im Feld 'Schulnummer' die Schulnummer eintragen | C15: wird automatisch ermittelt
A16: Schulleitung, Anrede | B16: bitte auswählen | C16: Anrede der Schulleitung (m/w/d)
A17: Schulleitung, Name | C17: Name der Schulleitung oder der kommissarisch besetzen Schulleitung oder der stellv. Schulleitung
A18: Schulleitung, Vorname | C18: Vorname der Schulleitung oder der kommissarisch besetzen Schulleitung oder der stellv. Schulleitung
A19: Straße und Hausnummer | B19: =IFERROR(IF(VLOOKUP(Antrag!$B$14,Schulen!$A$2:$K$314,7,)="","fehlt",VLOOKUP(Antrag!$B$14,Schulen!$A$2:$K$314,7,)),"Bitte im Feld 'Schulnummer' die Schulnummer eintragen") -> Bitte im Feld 'Schulnummer' die Schulnummer eintragen | C19: wird automatisch ermittelt
A20: PLZ | B20: =IFERROR(IF(VLOOKUP(Antrag!$B$14,Schulen!$A$2:$K$314,8,)="","fehlt",VLOOKUP(Antrag!$B$14,Schulen!$A$2:$K$314,8,)),"Bitte im Feld 'Schulnummer' die Schulnummer eintragen") -> Bitte im Feld 'Schulnummer' die Schulnummer eintragen | C20: wird automatisch ermittelt
A21: Ort | B21: =IFERROR(IF(VLOOKUP(Antrag!$B$14,Schulen!$A$2:$K$314,9,)="","fehlt",VLOOKUP(Antrag!$B$14,Schulen!$A$2:$K$314,9,)),"Bitte im Feld 'Schulnummer' die Schulnummer eintragen") -> Bitte im Feld 'Schulnummer' die Schulnummer eintragen | C21: wird automatisch ermittelt
A22: E-Mail - dienstlich | B22: =IFERROR(IF(VLOOKUP(Antrag!$B$14,Schulen!$A$2:$K$314,11,)="","fehlt",VLOOKUP(Antrag!$B$14,Schulen!$A$2:$K$314,11,)),"Bitte im Feld 'Schulnummer' die Schulnummer eintragen") -> Bitte im Feld 'Schulnummer' die Schulnummer eintragen | C22: wird automatisch ermittelt
A24: Ein Nachteilsausgleich wird beantragt für
A25: Name | C25: Name des Prüflings. Für jeden Prüfling muss ein eigener Antrag in einer eigenen Datei gestellt werden.
A26: Vorname | C26: Vorname des Prüflings
A27: Geburtsdatum | C27: Geburtsdatum des Prüflings
A28: Geschlecht | C28: Auswahl männlich / weiblich / divers / ohne Angabe
A31: Anschrift des Prüflings
A32: Straße und Hausnummer | C32: Die nachfolgenden Daten werden benötigt, falls der Antrag (ggfs. trotz Nachreichungen) final abgelehnt wird.
A33: Postleitzahl | C33: Zur Beschleunigung der Abläufe im Ablehnungsfall sind diese Daten bereits bei der Antragstellung anzugeben.
A34: Ort
A36: 1. Erziehungsberechtigte Person
A37: Name | C37: Bei nicht volljährigen Prüflingen erhalten im Ablehnungsfall die Erziehungsberechtigten die Benachrichtigung.
A38: Vorname | C38: Tragen Sie die nachfolgenden Daten ein, falls der Prüfling zum Fristende der Beantragung (30.November des jeweiligen Schuljahres) noch nicht volljährig ist.
A39: Anschrift
A40: Straße und Hausnummer | C40: Bei gleicher Anschrift kopieren Sie die ggfs. Daten des Prüflings.
A41: Postleitzahl | C41: Tragen Sie bitte nicht "wie oben" o.ä. ein, da exakt die eingetragenen Daten in die versendeten Briefe übernommen werden.
A42: Ort
A44: 2. Erziehungsberechtigte Person
A45: Name
A46: Vorname
A47: Anschrift
A48: Straße und Hausnummer | C48: Bei gleicher Anschrift kopieren Sie ggfs. die Daten des Prüflings.
A49: Postleitzahl | C49: Tragen Sie bitte nicht "wie oben" o.ä. ein, da exakt die eingetragenen Daten in die versendeten Briefe übernommen werden.
A50: Ort
A52: Sonderpädagogische Unterstützung gemäß AO-SF | C52: Die APO-GOSt unterscheidet in §13 Abs. 7 grundsätzlich, ob eine Behinderung oder ein sonderpädagogischer Förderbedarf (nach AO-SF)
A53: Antrag für Schüler/ innen mit sonderpädagogischer Unterstützung | C53: Ausnahmen im Prüfungsverfahren begründen. Im AO-SF-Fall erfolgt i.d.R. die Abstimmung mit der sonderpädagogischen Lehrkraft.
A54: AO-SF | B54: bitte auswählen | C54: Bitte aus den sechs Schwerpunkten der sonderpädagogischen Förderung die zutreffende Option auswählen.
A55: ggfs. Ansprechpartner FIBS | B55: kein Ansprechpartner | C55: ggfs. Eingabe des Ansprechpartners FIBS bei sehbehinderten SuS
A56: Eine fortlaufende Dokumentation des bisherigen Nachteilsausgleichs
A57: liegt vor als | B57: kein AO-SF-Verfahren | C57: Die Schule ist nach APO-GOSt §13 VV 13.7 verpflichtet, die Gewährung eines NTA fortlaufend zu dokumentieren.
A59: Art und Dokumentation des Nachteilsausgleichs
A60: Grund des NTA | B60: bitte auswählen | C60: Auswahl des Grundes für den NTA bei fehlendem AO-SF
A61: NTA wurde erstmals gewährt | B61: bitte auswählen | C61: Datum der Erstgewährung des NTA
A64: Die fortlaufende Dokumentation des bisherigen Nachteilsausgleichs ist dem Antrag beigefügt | B64: bitte auswählen | C64: Die Dokumentation ist zusammen mit dem Antrag einzureichen. Die Schule ist nach APO-GOSt §13 VV 13.7 verpflichtet, die Gewährung eines NTA fortlaufend zu dokumentieren.
A66: Datum des aktuellsten | C66: Reichen Sie zusammen mit dem Antrag alle Unterlagen ein, die den Antrag für einen Nachteilsausgleich hinreichend begründen. Zusätzliche der Schule vorliegende ärztliche Bescheinigungen müssen zunächst nicht eingereicht, jedoch auf Nachfrage vorgelegt werden können.
A67: eingereichten Attestes
A69: Begründung des Antrags (bitte ausfüllen, falls bei Grund "Sonstiges" gewählt wurde, keine Dokumentation oder Attest vorliegt oder der NTA erst ab der Q1 oder Q2 gewährt wurde.) | C69: Bitte ausfüllen, falls die bisherigen Angaben nicht ausreichen. Dies kann z.B. der Fall sein, falls bei Grund "Sonstiges" gewählt wurde oder der NTA erst ab der Q1 oder Q2 gewährt wurde.
A71: Abiturfächer
A72: LK 1 | C72: Bitte geben Sie alle Abiturfächer an, auch wenn nicht in allen ein NTA beantragt wird.
A73: LK 2
A74: AB 3
A75: AB 4 (nur Waldorfschulen & Externe) | C75: Dieses Feld dient zur Eingabe des 4. schriftlichen Abiturfachs im Externenabitur und Abitur an Waldorfschulen.
C76: An Gymnasien und Gesamtschulen bleibt das Feld AB4 leer. Das an Gymnasien und Gesamtschulen mündliche 4. Prüfungsfach ist nicht einzutragen.
A78: Nachteilsausgleich in der Q2
A80: Art und Umfang des in der Q2 gewährten Nachteilsausgleichs - Zeitverlängerung (ohne Zeitverlängerung für das Hörverstehen)
G81: Hinweis:
C82: Arbeitszeitverlängerung | D82: zusätzliche Lesezeit | E82: zusätzliche Korrekturzeit | F82: zusätzliche Pausen | G82: Die Arbeitszeitverlängerung ist
A83: Abiturfach | B83: Fach | C83: Umfang in min | D83: Umfang in min | E83: Umfang in min | F83: Umfang in min | G83: nicht als Summe aller
A84: =A72 -> LK 1 | B84: =IF($B$72="","",$B$72) | G84: Verlängerungen zu verstehen,
A85: =A73 -> LK 2 | B85: =IF($B$73="","",$B$73) | G85: sondern als eigene zusätzliche
A86: =A74 -> AB 3 | B86: =IF($B$74="","",$B$74) | G86: Verlängerung.
A87: =A75 -> AB 4 (nur Waldorfschulen & Externe) | B87: =IF($B$75="","",$B$75) | G87: An Gymnasien und Gesamtschulen bleibt das Feld AB4 leer.
A89: Art und Umfang des in der Q2 gewährten Nachteilsausgleichs - andere Hilfen
C91: Einsatz technischer Hilfen | D91: Veränderung Arbeitsplatz | E91: weitere Hilfen
A92: Abiturfach | B92: Fach | C92: Art und Erläuterung | D92: Art und Erläuterung | E92: Art und Erläuterung
A93: =A72 -> LK 1 | B93: =IF($B$72="","",$B$72) | F93: Bitte tragen Sie die Art des in der Q2 durch die Schule gewährten NTA ein.
A94: =A73 -> LK 2 | B94: =IF($B$73="","",$B$73)
A95: =A74 -> AB 3 | B95: =IF($B$74="","",$B$74)
A96: =A75 -> AB 4 (nur Waldorfschulen & Externe) | B96: =IF($B$75="","",$B$75) | F96: An Gymnasien und Gesamtschulen bleibt das Feld AB4 leer.
A98: Art und Umfang des in der Q2 gewährten Nachteilsausgleichs - Hörverstehen
I99: Bitte tragen Sie die in der Q2 gewährten NTA ein. Die kann auch eine Kombination der aufgeführten Möglichkeiten sein. Andere, hier nicht als Tabellenspalte aufgeführte Hilfen tragen Sie bitte unter "andere Hilfen" ein. Falls kein Nachteilsausgleich im Bereich Hören gewährt wurde, lassen Sie diese Felder frei.
C100: Transkript | D100: Mehrfaches Hören | E100: Technische Lösung | F100: Organisatorische Lösung | G100: Verlängerung der Lesezeit | H100: andere Hilfen
D101: Anzahl der
A102: Abiturfach | B102: Fach | C102: (ggfs. mit "X" markieren) | D102: Wiederholungen | E102: Art und Erläuterung | F102: Art und Erläuterung | G102: Umfang in min | H102: Art und Erläuterung
A103: =A84 -> LK 1 | B103: =IF($B$72="","",$B$72)
A104: =A85 -> LK 2 | B104: =IF($B$73="","",$B$73)
A105: =A86 -> AB 3 | B105: =IF($B$74="","",$B$74)
A106: =A87 -> AB 4 (nur Waldorfschulen & Externe) | B106: =IF($B$75="","",$B$75) | I106: An Gymnasien und Gesamtschulen bleibt das Feld AB4 leer.
A109: Nachteilsausgleich im Abitur
A111: Für das Abitur beantragter Nachteilsausgleich im Einzelnen - Zeitverlängerung (ohne Zeitverlängerung für das Hörverstehen)
G112: Für das entsprechende Fach wird hier der Umfang des NTA angegeben. Bitte geben Sie in den Feldern Arbeitszeitverlängerung, Lesezeit, Korrekturzeit und Pausen den Umfang in Minuten ein. Die Zeiten sind einzeln zu betrachten, z.B. könnte bei LRS eine Lesezeitverlängerung (x min) und eine Korrekturzeit (y min) beantragt werden. Einzutragen ist dann 0 - x - y - 0. Die Arbeitszeitverlängerung ist nicht als Summe aller Verlängerungen zu verstehen, sondern als eigene zusätzliche Verlängerung, die z.B. bei motorischen Einschränkungen gewährt werden könnte.
C113: Arbeitszeitverlängerung | D113: zusätzliche Lesezeit | E113: zusätzliche Korrekturzeit | F113: zusätzliche Pausen
A114: Abiturfach | B114: Fach | C114: Umfang in min | D114: Umfang in min | E114: Umfang in min | F114: Umfang in min
A115: =A72 -> LK 1 | B115: =IF($B$72="","",$B$72)
A116: =A73 -> LK 2 | B116: =IF($B$73="","",$B$73)
A117: =A74 -> AB 3 | B117: =IF($B$74="","",$B$74)
A118: =A75 -> AB 4 (nur Waldorfschulen & Externe) | B118: =IF($B$75="","",$B$75) | G118: An Gymnasien und Gesamtschulen bleibt das Feld AB4 leer.
A120: Falls der beantragte zeitliche Umfang von dem in der Q2 gewährten abweicht, ist eine Begründung notwendig.
A121: Begründung | C121: Weichen die für die Abiturprüfung beantragten Zeiten von denen in der Q2 ab, muss dies begründet werden.
A123: Für das Abitur beantragter Nachteilsausgleich - andere Hilfen
F124: Für das entsprechende Fach wird hier die Art des NTA angegeben. Der Einsatz technischer Hilfen, die Veränderung des Arbeitsplatzes und weitere Hilfen in den Abiturprüfungen müssen beschrieben werden.
C125: Einsatz technischer Hilfen | D125: Veränderung Arbeitsplatz | E125: weitere Hilfen
...

Sheet Quelle
A1: Geschlecht | C1: Art | E1: LK1-Fächer | G1: LK2-Fächer | I1: GK-Fächer | L1: Auswahl Dokumentation | N1: AO-SF | P1: Dokumentation AO-SF | S1: Auswahl Beginn | U1: Anrede
A3: männlich | C3: LRS-Legasthenie-Rechtschreibstörung | L3: ja | N3: bitte auswählen | P3: kein AO-SF-Verfahren | S3: bereits in der Sekundarstufe I | U3: Frau
A4: weiblich | C4: Diabetes | E4: Deutsch | G4: Biologie | I4: Biologie | L4: nein | N4: nein | P4: Bestandteil des individuellen Förderplans | S4: zu Beginn oder während der EF | U4: Herr
A5: divers | C5: Autismus-Spektrum-Störung | E5: Mathematik | G5: Biologie bilingual | I5: Biologie bilingual | L5: bitte auswählen | N5: Autismus-Spektrum-Störung | P5: zusätzliche Einzeldokumentation | S5: zu Beginn oder während der Q1 oder Q2 | U5: Guten Tag
A6: ohne Angabe | C6: Sehen | E6: Englisch | G6: Chemie | I6: Chemie | N6: Emotionale und soziale Entwicklung | S6: bitte auswählen | U6: bitte auswählen
C7: Hören | E7: Französisch | G7: Chinesisch | I7: Chinesisch | N7: Hören und Kommunikation
C8: emotionale-soziale Einschränkung | E8: Biologie | G8: Deutsch | I8: Deutsch | N8: Körperbehinderung
C9: Körperbehinderung | E9: Chemie | G9: Englisch | I9: Englisch | N9: Sehen
C10: chronische Erkrankung | E10: Physik | G10: Ernährungslehre | I10: Ernährungslehre | N10: Sprache
C11: motorische Einschränkungen | E11: Spanisch | G11: Erziehungswissenschaft | I11: Erziehungswissenschaft
C12: akute Erkrankung | E12: Lateinisch | G12: Evangelische Religionslehre | I12: Evangelische Religionslehre
C13: Sonstiges | E13: Italienisch | G13: Französisch | I13: Französisch
C14: bitte auswählen | E14: Griechisch | G14: Geographie | I14: Geographie
E15: Neugriechisch | G15: Geographie bilingual | I15: Geographie bilingual
E16: Hebräisch | G16: Geschichte | I16: Geschichte
E17: Japanisch | G17: Geschichte bilingual | I17: Geschichte bilingual
E18: Niederländisch | G18: Griechisch | I18: Griechisch
E19: Portugiesisch | G19: Hebräisch | I19: Hebräisch
E20: Russisch | G20: Informatik | I20: Informatik
E21: Türkisch | G21: Islamische Religionslehre | I21: Islamische Religionslehre
G22: Italienisch | I22: Italienisch
G23: Japanisch | I23: Japanisch
G24: Jüdische Religionslehre | I24: Jüdische Religionslehre
G25: Katholische Religionslehre | I25: Katholische Religionslehre
G26: Kunst | I26: Kunst
G27: Lateinisch | I27: Lateinisch
G28: Mathematik | I28: Mathematik
G29: Musik | I29: Musik
G30: Niederländisch | I30: Niederländisch
G31: Neugriechisch | I31: Neugriechisch
G32: Orthodoxe Religionslehre | I32: Orthodoxe Religionslehre
G33: Philosophie | I33: Philosophie
... G47: Volkswirtschaftslehre | I47: Volkswirtschaftslehre

Sheet Schulen
A1: Schulnr. | D1: Schule | G1: Straße, Hausnr. | H1: PLZ | I1: Ort | K1: E-Mail
A2: 100010 | D2: Claudia Agrippina Privatgymnasium | G2: Stolberger Straße 112 | H2: 50933 | I2: Köln | K2: =A2&".dienst@schule.nrw.de" -> 100010.dienst@schule.nrw.de
A3: 100016 | D3: Kupferstädter Gesamtschule | G3: Breslauer Straße 1 | H3: 52222 52224 | I3: Stolberg | K3: =A3&".dienst@schule.nrw.de" -> 100016.dienst@schule.nrw.de
A4: 100036 | D4: Gesamtschule Helios | G4: Overbeckstraße 71-73 | H4: 50823 | I4: Köln | K4: =A4&".dienst@schule.nrw.de" -> 100036.dienst@schule.nrw.de
A5: 100040 | D5: Gymnasium Neue Sandkaul | G5: Neue Sandkaul 29 | H5: 50859 | I5: Köln | K5: =A5&".dienst@schule.nrw.de" -> 100040.dienst@schule.nrw.de
A6: 100041 | D6: Gesamtschule Wasseramselweg (mit Förderschwerpunkten) | G6: Wasseramselweg 2 | H6: 50829 | I6: Köln | K6: =A6&".dienst@schule.nrw.de" -> 100041.dienst@schule.nrw.de
A7: 100068 | D7: Gesamtschule Lindenthal | G7: Berrenrather Straße 488 | H7: 50937 50933 | I7: Köln Köln | K7: =A7&".dienst@schule.nrw.de" -> 100068.dienst@schule.nrw.de
A8: 100071 | D8: Gesamtschule Dellbrücker Mauspfad | G8: Dellbrücker Mauspfad 198 | H8: 51069 | I8: Köln | K8: =A8&".dienst@schule.nrw.de" -> 100071.dienst@schule.nrw.de
A9: 100089 | D9: Gesamtschule Heinrich-Böll-Gesamtschule | G9: Beethovenstraße 57 | H9: 53332 | I9: Bornheim | K9: =A9&".dienst@schule.nrw.de" -> 100089.dienst@schule.nrw.de
A10: 100096 | D10: Gesamtschule Rösrath | G10: Freiherr-vom-Stein-Straße 25 | H10: 51503 | I10: Rösrath | K10: =A10&".dienst@schule.nrw.de" -> 100096.dienst@schule.nrw.de
A11: 100107 | D11: Leonardo-da-Vinci Sekundarschule Morsbach | G11: Hahner Straße 31-33 | H11: 51597 | I11: Morsbach | K11: 100107.dienst@schule.nrw.de
A12: 100129 | D12: Gesamtschule Swisttal | G12: Blütenweg.10 | H12: 53913 | I12: Swisttal | K12: =A12&".dienst@schule.nrw.de" -> 100129.dienst@schule.nrw.de
A13: 100145 | D13: Gymnasium Zusestraße, Köln | G13: Zusestraße 47 | H13: 50859 | I13: Köln | K13: =A13&".dienst@schule.nrw.de" -> 100145.dienst@schule.nrw.de
A14: 100147 | D14: Gymnasium Müngersdorf, Köln | G14: Aachener Straße 746-750 | H14: 50933 | I14: Köln | K14: =A14&".dienst@schule.nrw.de" -> 100147.dienst@schule.nrw.de
A15: 100169 | D15: Freie Naturschule | G15: An der Wachsfabrik 25 | H15: 50996 | I15: Köln | K15: =A15&".dienst@schule.nrw.de" -> 100169.dienst@schule.nrw.de
A16: 100170 | D16: BAO - Bildungsalternative Oberberg | G16: Weyerbuscher Straße 47 | H16: 51570 | I16: Windeck | K16: 100170.dienst@schule.nrw.de
A17: 100173 | D17: Gesamtschule Wermelskirschen | G17: Weyersbusch 9 | H17: 42929 | I17: Wermelskirchen | K17: =A17&".dienst@schule.nrw.de" -> 100173.dienst@schule.nrw.de
A18: 100174 | D18: Gymnasium Alfter | G18: Am Rathaus 11 | H18: 53347 | I18: Alfter | K18: 100174.dienst@schule.nrw.de
A19: 100205 | D19: Gymnasium Nippes am Toni-Steingass-Park | G19: Henner-Berzau-Weg 3 | H19: 50733 | I19: Köln | K19: 100205.dienst@schule.nrw.de
A20: 100206 | D20: Gymnasium Rondorf | G20: Eygelshovener Str. 19 | H20: 50999 | I20: Köln | K20: 100206.dienst@schule.nrw.de
A21: 100208 | D21: Sieben Brücken Schule | G21: Ottostr. 1 | H21: 50859 | I21: Köln | K21: =A21&".dienst@schule.nrw.de" -> 100208.dienst@schule.nrw.de
A22: 100210 | D22: Gesamtschule Am Wassermann | G22: Am Wassermann 40 | H22: 50829 | I22: Köln | K22: =A22&".dienst@schule.nrw.de" -> 100210.dienst@schule.nrw.de
A23: 100211 | D23: Gesamtschule Weidenpesch | G23: Escher Straße 279 | H23: 50739 | I23: Köln | K23: =A23&".dienst@schule.nrw.de" -> 100211.dienst@schule.nrw.de
A24: 100212 | D24: Gesamtschule Ossendorf | G24: Am Wassermann 40 | H24: 50829 | I24: Köln | K24: =A24&".dienst@schule.nrw.de" -> 100212.dienst@schule.nrw.de
A25: 100219 | D25: Erzbischöfliche Gesamtschule am Bildungscampus Köln-Kalk | G25: Christian-Sünner-Str. 5 | H25: 51103 | I25: Köln | K25: =A25&".dienst@schule.nrw.de" -> 100219.dienst@schule.nrw.de
A26: 100231 | D26: Gymnasium Neustadt-Nord | G26: Ubierring 45 | H26: 50678 | I26: Köln | K26: 100231.dienst@schule.nrw.de
A27: 100233 | D27: Gymnasium Brügelmannstraße | G27: Brügelmannstr. 10 | H27: 50679 | I27: Köln | K27: 100233.dienst@schule.nrw.de
A28: 100235 | D28: Gesamtschule Kalk | G28: Brügelmannstraße 10 | H28: 50679 | I28: Köln | K28: =A28&".dienst@schule.nrw.de" -> 100235.dienst@schule.nrw.de
A29: 163922 | D29: Abendrealschule Bonn | G29: Dorotheenstraße 126 | H29: 53111 | I29: Bonn | K29: =A29&".dienst@schule.nrw.de" -> 163922.dienst@schule.nrw.de
A30: 163934 | D30: WBK der Stadt Köln Abendrealschule | G30: Dagobertstr. 79 | H30: 50668 | I30: Köln | K30: =A30&".dienst@schule.nrw.de" -> 163934.dienst@schule.nrw.de
A31: 164124 | D31: Gesamtschule Käthe-Kollwitz | G31: Deichtorstraße 2 | H31: 51371 | I31: Leverkusen | K31: =A31&".dienst@schule.nrw.de" -> 164124.dienst@schule.nrw.de
A32: 164161 | D32: Gesamtschule Rodenkirchen | G32: Sürther Str. 191 | H32: 50999 | I32: Köln | K32: =A32&".dienst@schule.nrw.de" -> 164161.dienst@schule.nrw.de
A33: 164173 | D33: Freie Waldorfschule Bonn | G33: Stettiner Str. 21 | H33: 53119 | I33: Bonn | K33: =A33&".dienst@schule.nrw.de" -> 164173.dienst@schule.nrw.de
A34: 165001 | D34: Freiherr-vom-Stein-Gymnasium | G34: Morsbroicher Straße 77 | H34: 51375 | I34: Leverkusen | K34: 165001.dienst@schule.nrw.de
A35: 165013 | D35: Lise-Meitner-Gymnasium | G35: Am Stadtpark 50 | H35: 51373 | I35: Leverkusen | K35: 165013.dienst@schule.nrw.de
A36: 166157 | D36: Städt. Gymnasium Leichlingen | G36: Am Hammer 2 | H36: 42799 | I36: Leichlingen | K36: =A36&".dienst@schule.nrw.de" -> 166157.dienst@schule.nrw.de
A37: 166182 | D37: Marienschule Opladen | G37: An St. Remigius 21 | H37: 51379 | I37: Leverkusen | K37: =A37&".dienst@schule.nrw.de" -> 166182.dienst@schule.nrw.de
A38: 166194 | D38: Landrat-Lucas-Gymnasium | G38: Peter-Neuenheuser-Straße 7-11 | H38: 51379 | I38: Leverkusen | K38: =A38&".dienst@schule.nrw.de" -> 166194.dienst@schule.nrw.de
A39: 166200 | D39: Werner-Heisenberg-Gymnasium | G39: Werner-Heisenberg-Straße 1 | H39: 51381 | I39: Leverkusen | K39: =A39&".dienst@schule.nrw.de" -> 166200.dienst@schule.nrw.de
A40: 166212 | D40: Theodor-Heuss-Gymnasium | G40: Hermannstraße 23 | H40: 42477 | I40: Radevormwald | K40: =A40&".dienst@schule.nrw.de" -> 166212.dienst@schule.nrw.de
A41: 166224 | D41: Gymnasium Wermelskirchen | G41: Stockhauser Str. 13 | H41: 42929 | I41: Wermelskirchen | K41: =A41&".dienst@schule.nrw.de" -> 166224.dienst@schule.nrw.de
A42: 166236 | D42: Beethoven-Gymnasium | G42: Adenauerallee 51-53 | H42: 53113 | I42: Bonn | K42: =A42&".dienst@schule.nrw.de" -> 166236.dienst@schule.nrw.de
A43: 166248 | D43: Collegium Josephinum | G43: Kölnstraße 413 | H43: 53117 | I43: Bonn | K43: =A43&".dienst@schule.nrw.de" -> 166248.dienst@schule.nrw.de
A44: 166250 | D44: Ernst-Moritz-Arndt-Gymnasium | G44: Endenicher Allee 1 | H44: 53115 | I44: Bonn | K44: =A44&".dienst@schule.nrw.de" -> 166250.dienst@schule.nrw.de
A45: 166261 | D45: Amos-Comenius-Gymnasium | G45: Behringstraße 27 | H45: 53177 | I45: Bonn | K45: =A45&".dienst@schule.nrw.de" -> 166261.dienst@schule.nrw.de
A46: 166273 | D46: Kardinal-Frings-Gymnasium | G46: Elsa-Brändström-Straße 71-91 | H46: 53227 | I46: Bonn | K46: =A46&".dienst@schule.nrw.de" -> 166273.dienst@schule.nrw.de
A47: 166297 | D47: Erzb. Liebfrauenschule Bonn | G47: Königstraße 17-19 | H47: 53113 | I47: Bonn | K47: =A47&".dienst@schule.nrw.de" -> 166297.dienst@schule.nrw.de
... A228: 191711 | D228: Gymnasium Odenthal | G228: Bergisch Gladbacher Str. 10 | H228: 51519 | I228: Odenthal | K228: =A228&".dienst@schule.nrw.de" -> 191711.dienst@schule.nrw.de
A229: 191851 | D229: Gesamtschule Niederzier/ Merzenich | G229: Am Weiherhof 22 | H229: 52399 52382 | I229: Merzenich Merzenich | K229: =A229&".dienst@schule.nrw.de" -> 191851.dienst@schule.nrw.de
A230: 191929 | D230: Gesamtschule Weilerswist | G230: Martin-Luther-Straße 26 | H230: 53919 | I230: Weilerswist | K230: =A230&".dienst@schule.nrw.de" -> 191929.dienst@schule.nrw.de
A231: 191930 | D231: Gesamtschule Reichshof | G231: Hahnbucher Straße 23 | H231: 51580 | I231: Reichshof | K231: =A231&".dienst@schule.nrw.de" -> 191930.dienst@schule.nrw.de
A232: 191942 | D232: Gesamtschule Willy-Brandt | G232: Bruchhöhe 27 | H232: 50170 | I232: Kerpen | K232: =A232&".dienst@schule.nrw.de" -> 191942.dienst@schule.nrw.de
A233: 192090 | D233: Gymnasium Kreuzau | G233: Am Wassergarten 2 | H233: 52372 | I233: Kreuzau | K233: =A233&".dienst@schule.nrw.de" -> 192090.dienst@schule.nrw.de
A234: 192107 | D234: Erzbischöfliche Papst-Johannes XXIII.-Gesamtschule | G234: Hauptstraße 1 | H234: 50259 | I234: Pulheim | K234: =A234&".dienst@schule.nrw.de" -> 192107.dienst@schule.nrw.de
A235: 192119 | D235: Gesamtschule der Stadt Bergheim | G235: Herbergerstr. 6-8 | H235: 50127 | I235: Bergheim | K235: =A235&".dienst@schule.nrw.de" -> 192119.dienst@schule.nrw.de
A236: 193021 | D236: Gesamtschule Freie Schule Köln | G236: Bernhard-Letterhaus-Straße 17 | H236: 50670 | I236: Köln | K236: =A236&".dienst@schule.nrw.de" -> 193021.dienst@schule.nrw.de
A237: 193227 | D237: Gesamtschule Brühl | G237: Otto-Wels-Str.1 | H237: 50321 | I237: Brühl | K237: =A237&".dienst@schule.nrw.de" -> 193227.dienst@schule.nrw.de
A238: 193240 | D238: Gesamtschule Hennef-Meiersheide | G238: Meiersheide 20 | H238: 53773 | I238: Hennef | K238: =A238&".dienst@schule.nrw.de" -> 193240.dienst@schule.nrw.de
A239: 193290 | D239: Tages- und Abendschule Köln ( TAS ) | G239: Genovevastraße 72 | H239: 51063 | I239: Köln | K239: =A239&".dienst@schule.nrw.de" -> 193290.dienst@schule.nrw.de
A240: 193458 | D240: Gesamtschule Maria-Montessori | G240: Bergische Gasse 18 | H240: 52066 | I240: Aachen | K240: =A240&".dienst@schule.nrw.de" -> 193458.dienst@schule.nrw.de
A241: 193513 | D241: Gymnasium Lindlar | G241: Voßbrucher Str. 1 | H241: 51789 | I241: Lindlar | K241: =A241&".dienst@schule.nrw.de" -> 193513.dienst@schule.nrw.de
... A257: 196599 | D257: Gesamtschule Rhein-Sieg-Akademie-Kunstkolleg | G257: Wehrstraße 143-145 | H257: 53773 | I257: Hennef | K257: =A257&".dienst@schule.nrw.de" -> 196599.dienst@schule.nrw.de
A258: 196708 | D258: Schule an der Sieg | G258: Brückenstraße 60 | H258: 53783 | I258: Eitorf | K258: 196708.dienst@schule.nrw.de
A259: 196710 | D259: Gesamtschule Gertrud-Koch | G259: Edith-Stein-Straße 20 | H259: 53844 | I259: Troisdorf | K259: =A259&".dienst@schule.nrw.de" -> 196710.dienst@schule.nrw.de
A260: 196721 | D260: Gesamtschule Städtische Gesamtschule Stolberg „Auf der Liester“ | G260: Walter-Dobbelmann-Straße 11 | H260: 52223 | I260: Stolberg | K260: =A260&".dienst@schule.nrw.de" -> 196721.dienst@schule.nrw.de
A261: 196745 | D261: Gesamtschule Gangelt/Selfkant | G261: Mercatorstraße 25 | H261: 52538 | I261: Gangelt | K261: =A261&".dienst@schule.nrw.de" -> 196745.dienst@schule.nrw.de
A262: 197221 | D262: Gesamtschule Hurster Straße | G262: Hurster Straße 12 | H262: 51570 | I262: Windeck | K262: =A262&".dienst@schule.nrw.de" -> 197221.dienst@schule.nrw.de
A263: 197233 | D263: Leonardo-da-Vinci Sekundarschule | G263: Pèrenchiesstraße 3 | H263: 51941 | I263: Overath | K263: 197233.dienst@schule.nrw.de
A264: 197245 | D264: Sekundatschule Kreuzau/Nideggen | G264: Schulstraße 17 | H264: 52372 | I264: Kreuzau | K264: 197245.dienst@schule.nrw.de
A265: 197257 | D265: Sekundarschule Jülich | G265: Linnicherstr.67 | H265: 52428 | I265: Jülich | K265: 197257.dienst@schule.nrw.de
A266: 197282 | D266: Sekundarschule Nümbrecht | G266: Mateh-Yehuda-Str. 5 | H266: 51588 | I266: Nümbrecht | K266: 197282.dienst@schule.nrw.de
A267: 197300 | D267: Sekundarschule im Walbachtal | G267: Walbach 1 | H267: 51766 | I267: Engelskirchen | K267: 197300.dienst@schule.nrw.de
A268: 197348 | D268: Gesamtschule Maria-Sibylla-Merian | G268: Kircheichstr. 60 | H268: 52134 | I268: Herzogenrath | K268: =A268&".dienst@schule.nrw.de" -> 197348.dienst@schule.nrw.de
A269: 197350 | D269: Gesamtschule Much | G269: Schulstraße 12-14 | H269: 53804 | I269: Much | K269: =A269&".dienst@schule.nrw.de" -> 197350.dienst@schule.nrw.de
A270: 197488 | D270: Gesamtschule Offene Schule Köln | G270: Sürther Straße 199 | H270: 50999 | I270: Köln | K270: =A270&".dienst@schule.nrw.de" -> 197488.dienst@schule.nrw.de
A271: 197701 | D271: Sekundarschule Nordeifel | G271: Walter-Bachmann-Straße 40 | H271: 52152 | I271: Simmerath | K271: 197701.dienst@schule.nrw.de
A272: 197725 | D272: TOB Sekundarschule Wiehl | G272: Weierhofweg 22 | H272: 51647 | I272: Wiehl | K272: 197725.dienst@schule.nrw.de
A273: 197737 | D273: Gesamtschule Hennef-West | G273: Standort 1:Wehrstr. 80 Standort 2: : Fritz-Jacobi-Straße 10 | H273: 53773 | I273: Hennef | K273: =A273&".dienst@schule.nrw.de" -> 197737.dienst@schule.nrw.de
A274: 197749 | D274: Gesamtschule Petersberg Gesamtschule der Stadt Königswinter | G274: Dollendorfer Str. 64 | H274: 53639 | I274: Königswinter | K274: =A274&".dienst@schule.nrw.de" -> 197749.dienst@schule.nrw.de
A275: 197750 | D275: Gesamtschule Neunkirchen - Seelscheid | G275: Rathausstraße 4 | H275: 53819 | I275: Neunkirchen-Seel. | K275: =A275&".dienst@schule.nrw.de" -> 197750.dienst@schule.nrw.de
A276: 197762 | D276: Gesamtschule Am Michaelsberg | G276: Zeithstraße 72 | H276: 53721 | I276: Siegburg | K276: =A276&".dienst@schule.nrw.de" -> 197762.dienst@schule.nrw.de
A277: 197774 | D277: Gesamtschule Eifel | G277: Finkenberg 8 | H277: 53945 | I277: Blankenheim | K277: =A277&".dienst@schule.nrw.de" -> 197774.dienst@schule.nrw.de
A278: 197830 | D278: Freie Veytalschule Satzvey | G278: Am Kirchturm. 7 | H278: 53894 | I278: Mechernich | K278: =A278&".dienst@schule.nrw.de" -> 197830.dienst@schule.nrw.de
A279: 197877 | D279: Gesamtschule Nelson-Mandela | G279: Ahornweg 70 | H279: 51469 | I279: Bergisch Gladbach | K279: =A279&".dienst@schule.nrw.de" -> 197877.dienst@schule.nrw.de
A280: 198341 | D280: Gesamtschule Klostergarten (Freie christliche Schulen) | G280: Schöntalweg 5 | H280: 53347 | I280: Alfter | K280: =A280&".dienst@schule.nrw.de" -> 198341.dienst@schule.nrw.de
A281: 198493 | D281: Städt. Lindengymnasium | G281: Reininghauser Str. 32 | H281: 51643 | I281: Gummersbach | K281: =A281&".dienst@schule.nrw.de" -> 198493.dienst@schule.nrw.de
A282: 198626 | D282: Primusschule Titz | G282: Schulstraße 4 | H282: 52445 | I282: Titz | K282: 198626.dienst@schule.nrw.de
A283: 198675 | D283: Gesamtschule Hürth | G283: Sudetenstraße 35 | H283: 50354 | I283: Hürth | K283: =A283&".dienst@schule.nrw.de" -> 198675.dienst@schule.nrw.de
A284: 198742 | D284: Gesamtschule Trude-Herr-Gesamtschule | G284: Ferdinandstr. 43 | H284: 51063 | I284: Köln | K284: =A284&".dienst@schule.nrw.de" -> 198742.dienst@schule.nrw.de
A285: 198766 | D285: Gesamtschule Pulheim | G285: Kastanienallee 2 | H285: 50259 | I285: Pulheim | K285: =A285&".dienst@schule.nrw.de" -> 198766.dienst@schule.nrw.de
A286: 198912 | D286: Gesamtschule Köln-Innenstadt | G286: Standort 1: Frankenstr. 26 Standort 2, Sekundarstufe II: Severinswall 40 | H286: 50676 50678 | I286: Köln Köln | K286: =A286&".dienst@schule.nrw.de" -> 198912.dienst@schule.nrw.de
A287: 198948 | D287: Sekundarschule Wermelskirchen | G287: Wirtsmühlerstraße 12 | H287: 42929 | I287: Wermelskirchen | K287: 198948.dienst@schule.nrw.de
A288: 198950 | D288: Gesamtschule Rheinbach | G288: Standort 1:Villeneuver Straße 5 Standort 2:Dederichsgraben 2 | H288: 53359 | I288: Rheinbach | K288: =A288&".dienst@schule.nrw.de" -> 198950.dienst@schule.nrw.de
A289: 199000 | D289: Gesamtschule der Stadt Elsdorf | G289: Gladbacher Straße 139 | H289: 50189 | I289: Elsdorf | K289: =A289&".dienst@schule.nrw.de" -> 199000.dienst@schule.nrw.de
A290: 199011 | D290: Gesamtschule Heinsberg-Waldfeucht | G290: Parkstr. 21 | H290: 52525 | I290: Heinsberg | K290: =A290&".dienst@schule.nrw.de" -> 199011.dienst@schule.nrw.de
A291: 199023 | D291: Geschwister-Graf-Gesamtschule | G291: Kölner Str. 12 | H291: 53879 | I291: Euskirchen | K291: =A291&".dienst@schule.nrw.de" -> 199023.dienst@schule.nrw.de
A292: 199175 | D292: Gesamtschule Aldenhoven/Linnich | G292: Pestalozziring 12-18 | H292: 52457 | I292: Aldenhoven | K292: =A292&".dienst@schule.nrw.de" -> 199175.dienst@schule.nrw.de
A293: 199291 | D293: Gesamtschule Johannes-Löh-Gesamtschule | G293: Auf dem Schulberg 4 | H293: 51399 | I293: Burscheid | K293: =A293&".dienst@schule.nrw.de" -> 199291.dienst@schule.nrw.de
A294: 199310 | D294: Gesamtschule Niederkassel | G294: Kopernikusstraße 6 | H294: 53859 | I294: Niederkassel | K294: =A294&".dienst@schule.nrw.de" -> 199310.dienst@schule.nrw.de
A295: 199461 | D295: Sekundarschule Leichlingen | G295: Am Hammer 1 | H295: 42799 | I295: Leichlingen | K295: 199461.dienst@schule.nrw.de
...

Sheet Export_alleZellen
A1: =Antrag!B11 -> 0 | B1: =Antrag!B12 -> 0 | C1: =Antrag!B13 -> 0 | D1: =Antrag!B14 -> Bitte auswählen | E1: =Antrag!B15 -> Bitte im Feld 'Schulnummer' die Schulnummer eintragen | F1: =Antrag!B16 -> bitte auswählen | G1: =Antrag!B17 -> 0 | H1: =Antrag!B18 -> 0 | I1: =Antrag!B19 -> Bitte im Feld 'Schulnummer' die Schulnummer eintragen | J1: =Antrag!B20 -> Bitte im Feld 'Schulnummer' die Schulnummer eintragen | K1: =Antrag!B21 -> Bitte im Feld 'Schulnummer' die Schulnummer eintragen | L1: =Antrag!B22 -> Bitte im Feld 'Schulnummer' die Schulnummer eintragen | M1: =Antrag!B23 -> 0 | N1: =Antrag!B24 -> 0 | O1: =Antrag!B25 -> 0 | P1: =Antrag!B26 -> 0 | Q1: =Antrag!B27 -> 0 | R1: =Antrag!B28 -> 0 | S1: =Antrag!B37 -> 0 | T1: =Antrag!B52 -> 0 | U1: =Antrag!B53 -> 0 | V1: =Antrag!B54 -> bitte auswählen | W1: =Antrag!B55 -> kein Ansprechpartner | X1: =Antrag!B56 -> 0 | Y1: =Antrag!B57 -> kein AO-SF-Verfahren | Z1: =Antrag!B58 -> 0 | AA1: =Antrag!B59 -> 0 | AB1: =Antrag!B60 -> bitte auswählen | AC1: =Antrag!B61 -> bitte auswählen | AD1: =Antrag!B63 -> 0 | AE1: =Antrag!B64 -> bitte auswählen | AF1: =Antrag!B65 -> 0 | AG1: =Antrag!B66 -> 0 | AH1: =Antrag!B67 -> 0 | AI1: =Antrag!B68 -> 0 | AJ1: =Antrag!B69 -> 0 | AK1: =Antrag!B70 -> 0 | AL1: =Antrag!B71 -> 0 | AM1: =Antrag!B72 -> 0 | AN1: =Antrag!B73 -> 0 | AO1: =Antrag!B74 -> 0 | AP1: =Antrag!B75 -> 0 | AQ1: =Antrag!B79 -> 0 | AR1: =Antrag!B80 -> 0 | AS1: =Antrag!B81 -> 0 | AT1: =Antrag!B82 -> 0 | AU1: =Antrag!B84 | AV1: =Antrag!C84 -> 0 | AW1: =Antrag!D84 -> 0 | AX1: =Antrag!E84 -> 0 | AY1: =Antrag!F84 -> 0 | AZ1: =Antrag!B85 | BA1: =Antrag!C85 -> 0 | BB1: =Antrag!D85 -> 0 | BC1: =Antrag!E85 -> 0 | BD1: =Antrag!F85 -> 0 | BE1: =Antrag!B86 | BF1: =Antrag!C86 -> 0 | BG1: =Antrag!D86 -> 0 | BH1: =Antrag!E86 -> 0 | BI1: =Antrag!F86 -> 0 | BJ1: =Antrag!B87 | BK1: =Antrag!C87 -> 0 | BL1: =Antrag!D87 -> 0 | BM1: =Antrag!E87 -> 0 | BN1: =Antrag!F87 -> 0 | BO1: =Antrag!B88 -> 0 | BP1: =Antrag!B89 -> 0 | BQ1: =Antrag!B90 -> 0 | BR1: =Antrag!B91 -> 0 | BS1: =Antrag!B93 | BT1: =Antrag!C93 -> 0 | BU1: =Antrag!D93 -> 0 | BV1: =Antrag!E93 -> 0 | BW1: =Antrag!B94 | BX1: =Antrag!C94 -> 0 | BY1: =Antrag!D94 -> 0 | BZ1: =Antrag!E94 -> 0 | CA1: =Antrag!B95 | CB1: =Antrag!C95 -> 0 | CC1: =Antrag!D95 -> 0 | CD1: =Antrag!E95 -> 0 | CE1: =Antrag!B96 | CF1: =Antrag!C96 -> 0 | CG1: =Antrag!D96 -> 0 | CH1: =Antrag!E96 -> 0 | CI1: =Antrag!B97 -> 0 | CJ1: =Antrag!B111 -> 0 | CK1: =Antrag!B112 -> 0 | CL1: =Antrag!B113 -> 0 | CM1: =Antrag!B115 | CN1: =Antrag!C115 -> 0 | CO1: =Antrag!D115 -> 0 | CP1: =Antrag!E115 -> 0 | CQ1: =Antrag!F115 -> 0 | CR1: =Antrag!B116 | CS1: =Antrag!C116 -> 0 | CT1: =Antrag!D116 -> 0 | CU1: =Antrag!E116 -> 0 | CV1: =Antrag!F116 -> 0 | CW1: =Antrag!B117 | CX1: =Antrag!C117 -> 0 | CY1: =Antrag!D117 -> 0 | CZ1: =Antrag!E117 -> 0 | DA1: =Antrag!F117 -> 0 | DB1: =Antrag!B118 | DC1: =Antrag!C118 -> 0 | DD1: =Antrag!D118 -> 0 | DE1: =Antrag!E118 -> 0 | DF1: =Antrag!F118 -> 0 | DG1: =Antrag!B119 -> 0 | DH1: =Antrag!B120 -> 0 | DI1: =Antrag!B121 -> 0 | DJ1: =Antrag!B122 -> 0 | DK1: =Antrag!B123 -> 0 | DL1: =Antrag!B124 -> 0 | DM1: =Antrag!B125 -> 0 | DN1: =Antrag!B127 | DO1: =Antrag!C127 -> 0 | DP1: =Antrag!D127 -> 0 | DQ1: =Antrag!E127 -> 0 | DR1: =Antrag!B128 | DS1: =Antrag!C128 -> 0 | DT1: =Antrag!D128 -> 0 | DU1: =Antrag!E128 -> 0 | DV1: =Antrag!B129 | DW1: =Antrag!C129 -> 0 | DX1: =Antrag!D129 -> 0 | DY1: =Antrag!E129 -> 0 | DZ1: =Antrag!B130 | EA1: =Antrag!C130 -> 0 | EB1: =Antrag!D130 -> 0 | EC1: =Antrag!E130 -> 0 | ED1: =Antrag!B131 -> 0 | EE1: =Antrag!B142 -> 0 | EF1: =Antrag!B143 -> 0

Sheet Export
A1: =Antrag!B11 -> 0 | B1: =Antrag!B14 -> Bitte auswählen | C1: =Antrag!B15 -> Bitte im Feld 'Schulnummer' die Schulnummer eintragen | D1: =Antrag!B16 -> bitte auswählen | E1: =Antrag!B17 -> 0 | F1: =Antrag!B18 -> 0 | G1: =Antrag!B19 -> Bitte im Feld 'Schulnummer' die Schulnummer eintragen | H1: =Antrag!B20 -> Bitte im Feld 'Schulnummer' die Schulnummer eintragen | I1: =Antrag!B21 -> Bitte im Feld 'Schulnummer' die Schulnummer eintragen | J1: =Antrag!B22 -> Bitte im Feld 'Schulnummer' die Schulnummer eintragen | K1: =Antrag!B25 -> 0 | L1: =Antrag!B26 -> 0 | M1: =Antrag!B27 -> 0 | N1: =Antrag!B28 -> 0 | O1: =Antrag!B54 -> bitte auswählen | P1: =Antrag!B55 -> kein Ansprechpartner | Q1: =Antrag!B57 -> kein AO-SF-Verfahren | R1: =Antrag!B60 -> bitte auswählen | S1: =Antrag!B61 -> bitte auswählen | T1: =Antrag!B64 -> bitte auswählen | U1: =Antrag!B67 -> 0 | V1: =Antrag!B69 -> 0 | W1: =Antrag!B72 -> 0 | X1: =Antrag!B73 -> 0 | Y1: =Antrag!B74 -> 0 | Z1: =Antrag!B75 -> 0 | AA1: =Antrag!B84 | AB1: =Antrag!C84 -> 0 | AC1: =Antrag!D84 -> 0 | AD1: =Antrag!E84 -> 0 | AE1: =Antrag!F84 -> 0 | AF1: =Antrag!B85 | AG1: =Antrag!C85 -> 0 | AH1: =Antrag!D85 -> 0 | AI1: =Antrag!E85 -> 0 | AJ1: =Antrag!F85 -> 0 | AK1: =Antrag!B86 | AL1: =Antrag!C86 -> 0 | AM1: =Antrag!D86 -> 0 | AN1: =Antrag!E86 -> 0 | AO1: =Antrag!F86 -> 0 | AP1: =Antrag!B87 | AQ1: =Antrag!C87 -> 0 | AR1: =Antrag!D87 -> 0 | AS1: =Antrag!E87 -> 0 | AT1: =Antrag!F87 -> 0 | AU1: =Antrag!B93 | AV1: =Antrag!C93 -> 0 | AW1: =Antrag!D93 -> 0 | AX1: =Antrag!E93 -> 0 | AY1: =Antrag!B94 | AZ1: =Antrag!C94 -> 0 | BA1: =Antrag!D94 -> 0 | BB1: =Antrag!E94 -> 0 | BC1: =Antrag!B95 | BD1: =Antrag!C95 -> 0 | BE1: =Antrag!D95 -> 0 | BF1: =Antrag!E95 -> 0 | BG1: =Antrag!B96 | BH1: =Antrag!C96 -> 0 | BI1: =Antrag!D96 -> 0 | BJ1: =Antrag!E96 -> 0 | BK1: =Antrag!C103 -> 0 | BL1: =Antrag!D103 -> 0 | BM1: =Antrag!E103 -> 0 | BN1: =Antrag!F103 -> 0 | BO1: =Antrag!G103 -> 0 | BP1: =Antrag!H103 -> 0 | BQ1: =Antrag!C104 -> 0 | BR1: =Antrag!D104 -> 0 | BS1: =Antrag!E104 -> 0 | BT1: =Antrag!F104 -> 0 | BU1: =Antrag!G104 -> 0 | BV1: =Antrag!H104 -> 0 | BW1: =Antrag!C105 -> 0 | BX1: =Antrag!D105 -> 0 | BY1: =Antrag!E105 -> 0 | BZ1: =Antrag!F105 -> 0 | CA1: =Antrag!G105 -> 0 | CB1: =Antrag!H105 -> 0 | CC1: =Antrag!C106 -> 0 | CD1: =Antrag!D106 -> 0 | CE1: =Antrag!E106 -> 0 | CF1: =Antrag!F106 -> 0 | CG1: =Antrag!G106 -> 0 | CH1: =Antrag!H106 -> 0 | CI1: =Antrag!B115 | CJ1: =Antrag!C115 -> 0 | CK1: =Antrag!D115 -> 0 | CL1: =Antrag!E115 -> 0 | CM1: =Antrag!F115 -> 0 | CN1: =Antrag!B116 | CO1: =Antrag!C116 -> 0 | CP1: =Antrag!D116 -> 0 | CQ1: =Antrag!E116 -> 0 | CR1: =Antrag!F116 -> 0 | CS1: =Antrag!B117 | CT1: =Antrag!C117 -> 0 | CU1: =Antrag!D117 -> 0 | CV1: =Antrag!E117 -> 0 | CW1: =Antrag!F117 -> 0 | CX1: =Antrag!B118 | CY1: =Antrag!C118 -> 0 | CZ1: =Antrag!D118 -> 0 | DA1: =Antrag!E118 -> 0 | DB1: =Antrag!F118 -> 0 | DC1: =Antrag!B121 -> 0 | DD1: =Antrag!B127 | DE1: =Antrag!C127 -> 0 | DF1: =Antrag!D127 -> 0 | DG1: =Antrag!E127 -> 0 | DH1: =Antrag!B128 | DI1: =Antrag!C128 -> 0 | DJ1: =Antrag!D128 -> 0 | DK1: =Antrag!E128 -> 0 | DL1: =Antrag!B129 | DM1: =Antrag!C129 -> 0 | DN1: =Antrag!D129 -> 0 | DO1: =Antrag!E129 -> 0 | DP1: =Antrag!B130 | DQ1: =Antrag!C130 -> 0 | DR1: =Antrag!D130 -> 0 | DS1: =Antrag!E130 -> 0 | DT1: =Antrag!C137 -> 0 | DU1: =Antrag!D137 -> 0 | DV1: =Antrag!E137 -> 0 | DW1: =Antrag!F137 -> 0 | DX1: =Antrag!G137 -> 0 | DY1: =Antrag!H137 -> 0 | DZ1: =Antrag!C138 -> 0 | EA1: =Antrag!D138 -> 0 | EB1: =Antrag!E138 -> 0 | EC1: =Antrag!F138 -> 0 | ED1: =Antrag!G138 -> 0 | EE1: =Antrag!H138 -> 0 | EF1: =Antrag!C139 -> 0 | EG1: =Antrag!D139 -> 0 | EH1: =Antrag!E139 -> 0 | EI1: =Antrag!F139 -> 0 | EJ1: =Antrag!G139 -> 0 | EK1: =Antrag!H139 -> 0 | EL1: =Antrag!C140 -> 0 | EM1: =Antrag!D140 -> 0 | EN1: =Antrag!E140 -> 0 | EO1: =Antrag!F140 -> 0 | EP1: =Antrag!G140 -> 0 | EQ1: =Antrag!H140 -> 0 | ER1: =Antrag!B143 -> 0 | ES1: =Antrag!B32 -> 0 | ET1: =Antrag!B33 -> 0 | EU1: =Antrag!B34 -> 0 | EV1: =Antrag!B37 -> 0 | EW1: =Antrag!B38 -> 0 | EX1: =Antrag!B40 -> 0 | EY1: =Antrag!B41 -> 0 | EZ1: =Antrag!B42 -> 0 | FA1: =Antrag!B45 -> 0 | FB1: =Antrag!B46 -> 0 | FC1: =Antrag!B48 -> 0 | FD1: =Antrag!B49 -> 0 | FE1: =Antrag!B50 -> 0 | FF1: =Antrag!B145 -> 2026.1.4
